Package: pqsfinder Version: 2.23.0 Command: /Library/Frameworks/R.framework/Resources/bin/R CMD build --keep-empty-dirs --no-resave-data pqsfinder StartedAt: 2025-02-09 17:16:45 -0500 (Sun, 09 Feb 2025) EndedAt: 2025-02-09 17:17:36 -0500 (Sun, 09 Feb 2025) EllapsedTime: 50.6 seconds RetCode: 0 Status: OK PackageFile: pqsfinder_2.23.0.tar.gz PackageFileSize: 377.5 KiB