Package: pqsfinder Version: 2.23.0 Command: /home/biocbuild/R/R/bin/R CMD build --keep-empty-dirs --no-resave-data pqsfinder StartedAt: 2025-01-29 01:20:24 -0000 (Wed, 29 Jan 2025) EndedAt: 2025-01-29 01:23:01 -0000 (Wed, 29 Jan 2025) EllapsedTime: 157.1 seconds RetCode: 0 Status: OK PackageFile: pqsfinder_2.23.0.tar.gz PackageFileSize: 359.7 KiB