Package: pqsfinder Version: 2.23.0 Command: /home/biocbuild/R/R/bin/R CMD INSTALL pqsfinder StartedAt: 2025-01-29 19:38:09 -0000 (Wed, 29 Jan 2025) EndedAt: 2025-01-29 19:39:14 -0000 (Wed, 29 Jan 2025) EllapsedTime: 65.5 seconds RetCode: 0 Status: OK