Package: pqsfinder Version: 2.23.0 Command: /Library/Frameworks/R.framework/Resources/bin/R CMD build --keep-empty-dirs --no-resave-data pqsfinder StartedAt: 2025-02-12 17:53:03 -0500 (Wed, 12 Feb 2025) EndedAt: 2025-02-12 17:55:09 -0500 (Wed, 12 Feb 2025) EllapsedTime: 126.6 seconds RetCode: 0 Status: OK PackageFile: pqsfinder_2.23.0.tar.gz PackageFileSize: 377.3 KiB