Package: pqsfinder Version: 2.23.0 Command: /Library/Frameworks/R.framework/Resources/bin/R CMD check --install=check:pqsfinder.install-out.txt --library=/Library/Frameworks/R.framework/Resources/library --no-vignettes --timings pqsfinder_2.23.0.tar.gz StartedAt: 2025-02-09 22:46:10 -0500 (Sun, 09 Feb 2025) EndedAt: 2025-02-09 22:49:29 -0500 (Sun, 09 Feb 2025) EllapsedTime: 199.4 seconds RetCode: 0 Status: WARNINGS CheckDir: pqsfinder.Rcheck Warnings: 1