Package: pqsfinder Version: 2.23.0 Command: /home/biocbuild/bbs-3.21-bioc/R/bin/R CMD build --keep-empty-dirs --no-resave-data pqsfinder StartedAt: 2025-02-09 18:42:21 -0500 (Sun, 09 Feb 2025) EndedAt: 2025-02-09 18:44:24 -0500 (Sun, 09 Feb 2025) EllapsedTime: 122.2 seconds RetCode: 0 Status: OK PackageFile: pqsfinder_2.23.0.tar.gz PackageFileSize: 371.7 KiB