Package: pqsfinder Version: 2.23.0 Command: /home/biocbuild/bbs-3.21-bioc/R/bin/R CMD check --install=check:pqsfinder.install-out.txt --library=/home/biocbuild/bbs-3.21-bioc/R/site-library --timings pqsfinder_2.23.0.tar.gz StartedAt: 2025-02-13 01:25:01 -0500 (Thu, 13 Feb 2025) EndedAt: 2025-02-13 01:29:03 -0500 (Thu, 13 Feb 2025) EllapsedTime: 242.2 seconds RetCode: 0 Status: WARNINGS CheckDir: pqsfinder.Rcheck Warnings: 1