Package: pram Version: 1.23.0 Command: rm -rf pram.buildbin-libdir && mkdir pram.buildbin-libdir && /Users/biocbuild/BBS/utils/build-universal.sh pram_1.23.0.tar.gz /Library/Frameworks/R.framework/Resources/bin/R pram.buildbin-libdir StartedAt: 2025-02-09 22:25:34 -0500 (Sun, 09 Feb 2025) EndedAt: 2025-02-09 22:25:48 -0500 (Sun, 09 Feb 2025) EllapsedTime: 14.3 seconds RetCode: 0 Status: OK PackageFile: pram_1.23.0.tgz PackageFileSize: 2.496 MiB