Package: pram Version: 1.23.0 Command: /home/biocbuild/R/R/bin/R CMD build --keep-empty-dirs --no-resave-data pram StartedAt: 2025-01-29 01:20:29 -0000 (Wed, 29 Jan 2025) EndedAt: 2025-01-29 01:21:30 -0000 (Wed, 29 Jan 2025) EllapsedTime: 61.0 seconds RetCode: 0 Status: OK PackageFile: pram_1.23.0.tar.gz PackageFileSize: 2.667 MiB