Package: pram Version: 1.23.0 Command: rm -rf pram.buildbin-libdir && mkdir pram.buildbin-libdir && /Users/biocbuild/BBS/utils/build-universal.sh pram_1.23.0.tar.gz /Library/Frameworks/R.framework/Resources/bin/R pram.buildbin-libdir StartedAt: 2025-02-05 00:54:56 -0500 (Wed, 05 Feb 2025) EndedAt: 2025-02-05 00:55:43 -0500 (Wed, 05 Feb 2025) EllapsedTime: 46.1 seconds RetCode: 0 Status: OK PackageFile: pram_1.23.0.tgz PackageFileSize: 2.495 MiB