Package: pram Version: 1.23.0 Command: /Library/Frameworks/R.framework/Resources/bin/R CMD build --keep-empty-dirs --no-resave-data pram StartedAt: 2025-02-09 17:59:40 -0500 (Sun, 09 Feb 2025) EndedAt: 2025-02-09 18:00:32 -0500 (Sun, 09 Feb 2025) EllapsedTime: 52.5 seconds RetCode: 0 Status: OK PackageFile: pram_1.23.0.tar.gz PackageFileSize: 2.666 MiB