Package: pram Version: 1.23.0 Command: /Library/Frameworks/R.framework/Resources/bin/R CMD INSTALL pram StartedAt: 2025-02-04 15:17:21 -0500 (Tue, 04 Feb 2025) EndedAt: 2025-02-04 15:18:03 -0500 (Tue, 04 Feb 2025) EllapsedTime: 42.2 seconds RetCode: 0 Status: OK