Package: pram Version: 1.23.0 Command: /home/biocbuild/bbs-3.21-bioc/R/bin/R CMD INSTALL pram StartedAt: 2025-02-04 15:24:34 -0500 (Tue, 04 Feb 2025) EndedAt: 2025-02-04 15:25:06 -0500 (Tue, 04 Feb 2025) EllapsedTime: 32.0 seconds RetCode: 0 Status: OK