Package: pram Version: 1.23.0 Command: rm -rf pram.buildbin-libdir && mkdir pram.buildbin-libdir && E:\biocbuild\bbs-3.21-bioc\R\bin\R.exe CMD INSTALL --build --library=pram.buildbin-libdir pram_1.23.0.tar.gz StartedAt: 2025-02-05 08:36:35 -0500 (Wed, 05 Feb 2025) EndedAt: 2025-02-05 08:37:47 -0500 (Wed, 05 Feb 2025) EllapsedTime: 72.2 seconds RetCode: 0 Status: OK PackageFile: pram_1.23.0.zip PackageFileSize: 2.501 MiB