Package: pram Version: 1.23.0 Command: E:\biocbuild\bbs-3.21-bioc\R\bin\R.exe CMD INSTALL pram StartedAt: 2025-02-04 15:55:12 -0500 (Tue, 04 Feb 2025) EndedAt: 2025-02-04 15:56:18 -0500 (Tue, 04 Feb 2025) EllapsedTime: 65.8 seconds RetCode: 0 Status: OK