Package: prebs Version: 1.47.0 Command: /Library/Frameworks/R.framework/Resources/bin/R CMD check --install=check:prebs.install-out.txt --library=/Library/Frameworks/R.framework/Resources/library --no-vignettes --timings prebs_1.47.0.tar.gz StartedAt: 2025-02-09 22:46:20 -0500 (Sun, 09 Feb 2025) EndedAt: 2025-02-09 22:54:36 -0500 (Sun, 09 Feb 2025) EllapsedTime: 495.6 seconds RetCode: 0 Status: OK CheckDir: prebs.Rcheck Warnings: 0