Package: prebs Version: 1.47.0 Command: /home/biocbuild/bbs-3.21-bioc/R/bin/R CMD INSTALL prebs StartedAt: 2025-02-09 15:25:09 -0500 (Sun, 09 Feb 2025) EndedAt: 2025-02-09 15:25:41 -0500 (Sun, 09 Feb 2025) EllapsedTime: 32.3 seconds RetCode: 0 Status: OK