Package: prebs Version: 1.47.0 Command: rm -rf prebs.buildbin-libdir && mkdir prebs.buildbin-libdir && E:\biocbuild\bbs-3.21-bioc\R\bin\R.exe CMD INSTALL --build --library=prebs.buildbin-libdir prebs_1.47.0.tar.gz StartedAt: 2025-02-13 08:34:49 -0500 (Thu, 13 Feb 2025) EndedAt: 2025-02-13 08:35:44 -0500 (Thu, 13 Feb 2025) EllapsedTime: 54.8 seconds RetCode: 0 Status: OK PackageFile: prebs_1.47.0.zip PackageFileSize: 278.2 KiB