Package: preciseTAD Version: 1.17.0 Command: rm -rf preciseTAD.buildbin-libdir && mkdir preciseTAD.buildbin-libdir && /Users/biocbuild/BBS/utils/build-universal.sh preciseTAD_1.17.0.tar.gz /Library/Frameworks/R.framework/Resources/bin/R preciseTAD.buildbin-libdir StartedAt: 2025-02-09 22:25:36 -0500 (Sun, 09 Feb 2025) EndedAt: 2025-02-09 22:25:56 -0500 (Sun, 09 Feb 2025) EllapsedTime: 20.4 seconds RetCode: 0 Status: OK PackageFile: preciseTAD_1.17.0.tgz PackageFileSize: 4.774 MiB