Package: preciseTAD Version: 1.17.0 Command: /Library/Frameworks/R.framework/Resources/bin/R CMD check --install=check:preciseTAD.install-out.txt --library=/Library/Frameworks/R.framework/Resources/library --no-vignettes --timings preciseTAD_1.17.0.tar.gz StartedAt: 2025-02-09 20:44:00 -0500 (Sun, 09 Feb 2025) EndedAt: 2025-02-09 20:48:34 -0500 (Sun, 09 Feb 2025) EllapsedTime: 274.4 seconds RetCode: 0 Status: OK CheckDir: preciseTAD.Rcheck Warnings: 0