Package: preciseTAD Version: 1.17.0 Command: /Library/Frameworks/R.framework/Resources/bin/R CMD INSTALL preciseTAD StartedAt: 2025-02-12 15:23:40 -0500 (Wed, 12 Feb 2025) EndedAt: 2025-02-12 15:24:02 -0500 (Wed, 12 Feb 2025) EllapsedTime: 21.8 seconds RetCode: 0 Status: OK