Package: preciseTAD Version: 1.17.0 Command: /Library/Frameworks/R.framework/Resources/bin/R CMD build --keep-empty-dirs --no-resave-data preciseTAD StartedAt: 2025-02-12 17:53:12 -0500 (Wed, 12 Feb 2025) EndedAt: 2025-02-12 17:57:37 -0500 (Wed, 12 Feb 2025) EllapsedTime: 264.7 seconds RetCode: 0 Status: OK PackageFile: preciseTAD_1.17.0.tar.gz PackageFileSize: 4.071 MiB