Package: preciseTAD Version: 1.17.0 Command: /home/biocbuild/bbs-3.21-bioc/R/bin/R CMD INSTALL preciseTAD StartedAt: 2025-02-09 16:00:27 -0500 (Sun, 09 Feb 2025) EndedAt: 2025-02-09 16:01:09 -0500 (Sun, 09 Feb 2025) EllapsedTime: 42.3 seconds RetCode: 0 Status: OK