Package: preciseTAD Version: 1.17.0 Command: rm -rf preciseTAD.buildbin-libdir && mkdir preciseTAD.buildbin-libdir && E:\biocbuild\bbs-3.21-bioc\R\bin\R.exe CMD INSTALL --build --library=preciseTAD.buildbin-libdir preciseTAD_1.17.0.tar.gz StartedAt: 2025-02-10 08:24:37 -0500 (Mon, 10 Feb 2025) EndedAt: 2025-02-10 08:25:39 -0500 (Mon, 10 Feb 2025) EllapsedTime: 62.2 seconds RetCode: 0 Status: OK PackageFile: preciseTAD_1.17.0.zip PackageFileSize: 4.761 MiB