Package: preprocessCore Version: 1.69.0 Command: rm -rf preprocessCore.buildbin-libdir && mkdir preprocessCore.buildbin-libdir && /Users/biocbuild/BBS/utils/build-universal.sh preprocessCore_1.69.0.tar.gz /Library/Frameworks/R.framework/Resources/bin/R preprocessCore.buildbin-libdir StartedAt: 2025-02-04 22:27:27 -0500 (Tue, 04 Feb 2025) EndedAt: 2025-02-04 22:27:38 -0500 (Tue, 04 Feb 2025) EllapsedTime: 11.2 seconds RetCode: 0 Status: OK PackageFile: preprocessCore_1.69.0.tgz PackageFileSize: 163.2 KiB