Package: preprocessCore Version: 1.69.0 Command: /Library/Frameworks/R.framework/Resources/bin/R CMD build --keep-empty-dirs --no-resave-data preprocessCore StartedAt: 2025-02-04 17:17:13 -0500 (Tue, 04 Feb 2025) EndedAt: 2025-02-04 17:17:14 -0500 (Tue, 04 Feb 2025) EllapsedTime: 1.0 seconds RetCode: 0 Status: OK PackageFile: preprocessCore_1.69.0.tar.gz PackageFileSize: 121.2 KiB