Package: preprocessCore Version: 1.69.0 Command: /Library/Frameworks/R.framework/Resources/bin/R CMD check --install=check:preprocessCore.install-out.txt --library=/Library/Frameworks/R.framework/Resources/library --no-vignettes --timings preprocessCore_1.69.0.tar.gz StartedAt: 2025-02-04 20:46:00 -0500 (Tue, 04 Feb 2025) EndedAt: 2025-02-04 20:46:11 -0500 (Tue, 04 Feb 2025) EllapsedTime: 11.1 seconds RetCode: 0 Status: WARNINGS CheckDir: preprocessCore.Rcheck Warnings: 2