Package: preprocessCore Version: 1.69.0 Command: /Library/Frameworks/R.framework/Resources/bin/R CMD INSTALL preprocessCore StartedAt: 2025-02-04 15:01:11 -0500 (Tue, 04 Feb 2025) EndedAt: 2025-02-04 15:01:20 -0500 (Tue, 04 Feb 2025) EllapsedTime: 8.8 seconds RetCode: 0 Status: OK