Package: preprocessCore Version: 1.69.0 Command: /home/biocbuild/R/R/bin/R CMD build --keep-empty-dirs --no-resave-data preprocessCore StartedAt: 2025-01-29 01:21:27 -0000 (Wed, 29 Jan 2025) EndedAt: 2025-01-29 01:21:28 -0000 (Wed, 29 Jan 2025) EllapsedTime: 1.0 seconds RetCode: 0 Status: OK PackageFile: preprocessCore_1.69.0.tar.gz PackageFileSize: 121.2 KiB