Package: preprocessCore Version: 1.69.0 Command: rm -rf preprocessCore.buildbin-libdir && mkdir preprocessCore.buildbin-libdir && E:\biocbuild\bbs-3.21-bioc\R\bin\R.exe CMD INSTALL --build --library=preprocessCore.buildbin-libdir preprocessCore_1.69.0.tar.gz StartedAt: 2025-02-05 08:36:44 -0500 (Wed, 05 Feb 2025) EndedAt: 2025-02-05 08:37:48 -0500 (Wed, 05 Feb 2025) EllapsedTime: 64.2 seconds RetCode: 0 Status: OK PackageFile: preprocessCore_1.69.0.zip PackageFileSize: 168.7 KiB