Package: preprocessCore Version: 1.69.0 Command: chmod a+r preprocessCore -R && E:\biocbuild\bbs-3.21-bioc\R\bin\R.exe CMD build --keep-empty-dirs --no-resave-data preprocessCore StartedAt: 2025-02-04 20:54:06 -0500 (Tue, 04 Feb 2025) EndedAt: 2025-02-04 20:54:14 -0500 (Tue, 04 Feb 2025) EllapsedTime: 8.7 seconds RetCode: 0 Status: OK PackageFile: preprocessCore_1.69.0.tar.gz PackageFileSize: 121.2 KiB