Package: preprocessCore Version: 1.69.0 Command: E:\biocbuild\bbs-3.21-bioc\R\bin\R.exe CMD INSTALL preprocessCore StartedAt: 2025-02-04 15:17:41 -0500 (Tue, 04 Feb 2025) EndedAt: 2025-02-04 15:18:16 -0500 (Tue, 04 Feb 2025) EllapsedTime: 35.4 seconds RetCode: 0 Status: OK