Package: proActiv Version: 1.17.0 Command: /Library/Frameworks/R.framework/Resources/bin/R CMD build --keep-empty-dirs --no-resave-data proActiv StartedAt: 2025-02-12 17:16:59 -0500 (Wed, 12 Feb 2025) EndedAt: 2025-02-12 17:17:23 -0500 (Wed, 12 Feb 2025) EllapsedTime: 24.3 seconds RetCode: 0 Status: OK PackageFile: proActiv_1.17.0.tar.gz PackageFileSize: 2.684 MiB