Package: proActiv Version: 1.17.0 Command: /Library/Frameworks/R.framework/Resources/bin/R CMD build --keep-empty-dirs --no-resave-data proActiv StartedAt: 2025-02-09 18:00:19 -0500 (Sun, 09 Feb 2025) EndedAt: 2025-02-09 18:01:24 -0500 (Sun, 09 Feb 2025) EllapsedTime: 65.1 seconds RetCode: 0 Status: OK PackageFile: proActiv_1.17.0.tar.gz PackageFileSize: 2.684 MiB