Package: proActiv Version: 1.17.0 Command: rm -rf proActiv.buildbin-libdir && mkdir proActiv.buildbin-libdir && E:\biocbuild\bbs-3.21-bioc\R\bin\R.exe CMD INSTALL --build --library=proActiv.buildbin-libdir proActiv_1.17.0.tar.gz StartedAt: 2025-02-13 08:35:12 -0500 (Thu, 13 Feb 2025) EndedAt: 2025-02-13 08:38:33 -0500 (Thu, 13 Feb 2025) EllapsedTime: 200.4 seconds RetCode: 0 Status: OK PackageFile: proActiv_1.17.0.zip PackageFileSize: 2.668 MiB