Package: proBAMr Version: 1.41.0 Command: /Library/Frameworks/R.framework/Resources/bin/R CMD check --install=check:proBAMr.install-out.txt --library=/Library/Frameworks/R.framework/Resources/library --no-vignettes --timings proBAMr_1.41.0.tar.gz StartedAt: 2025-02-10 20:45:54 -0500 (Mon, 10 Feb 2025) EndedAt: 2025-02-10 20:47:51 -0500 (Mon, 10 Feb 2025) EllapsedTime: 116.4 seconds RetCode: 0 Status: OK CheckDir: proBAMr.Rcheck Warnings: 0