Package: proBAMr Version: 1.41.0 Command: /Library/Frameworks/R.framework/Resources/bin/R CMD INSTALL proBAMr StartedAt: 2025-02-10 15:14:17 -0500 (Mon, 10 Feb 2025) EndedAt: 2025-02-10 15:14:33 -0500 (Mon, 10 Feb 2025) EllapsedTime: 15.3 seconds RetCode: 0 Status: OK