Package: proBAMr Version: 1.41.0 Command: rm -rf proBAMr.buildbin-libdir && mkdir proBAMr.buildbin-libdir && /Users/biocbuild/BBS/utils/build-universal.sh proBAMr_1.41.0.tar.gz /Library/Frameworks/R.framework/Resources/bin/R proBAMr.buildbin-libdir StartedAt: 2025-02-11 01:22:54 -0500 (Tue, 11 Feb 2025) EndedAt: 2025-02-11 01:23:46 -0500 (Tue, 11 Feb 2025) EllapsedTime: 52.1 seconds RetCode: 0 Status: OK PackageFile: proBAMr_1.41.0.tgz PackageFileSize: 524.5 KiB