Package: proBAMr Version: 1.41.0 Command: /Library/Frameworks/R.framework/Resources/bin/R CMD INSTALL proBAMr StartedAt: 2025-02-10 15:23:10 -0500 (Mon, 10 Feb 2025) EndedAt: 2025-02-10 15:23:58 -0500 (Mon, 10 Feb 2025) EllapsedTime: 48.1 seconds RetCode: 0 Status: OK