Package: proBAMr Version: 1.41.0 Command: chmod a+r proBAMr -R && E:\biocbuild\bbs-3.21-bioc\R\bin\R.exe CMD build --keep-empty-dirs --no-resave-data proBAMr StartedAt: 2025-02-09 20:52:05 -0500 (Sun, 09 Feb 2025) EndedAt: 2025-02-09 20:53:33 -0500 (Sun, 09 Feb 2025) EllapsedTime: 88.3 seconds RetCode: 0 Status: OK PackageFile: proBAMr_1.41.0.tar.gz PackageFileSize: 815.8 KiB