Package: proBAMr Version: 1.41.0 Command: E:\biocbuild\bbs-3.21-bioc\R\bin\R.exe CMD INSTALL proBAMr StartedAt: 2025-02-09 16:34:27 -0500 (Sun, 09 Feb 2025) EndedAt: 2025-02-09 16:35:14 -0500 (Sun, 09 Feb 2025) EllapsedTime: 47.7 seconds RetCode: 0 Status: OK