Package: proDA Version: 1.21.0 Command: /Library/Frameworks/R.framework/Resources/bin/R CMD check --install=check:proDA.install-out.txt --library=/Library/Frameworks/R.framework/Resources/library --no-vignettes --timings proDA_1.21.0.tar.gz StartedAt: 2025-02-09 20:45:08 -0500 (Sun, 09 Feb 2025) EndedAt: 2025-02-09 20:46:39 -0500 (Sun, 09 Feb 2025) EllapsedTime: 90.1 seconds RetCode: 0 Status: OK CheckDir: proDA.Rcheck Warnings: 0