Package: proDA Version: 1.21.0 Command: /home/biocbuild/R/R/bin/R CMD build --keep-empty-dirs --no-resave-data proDA StartedAt: 2025-01-29 01:22:14 -0000 (Wed, 29 Jan 2025) EndedAt: 2025-01-29 01:24:15 -0000 (Wed, 29 Jan 2025) EllapsedTime: 121.1 seconds RetCode: 0 Status: OK PackageFile: proDA_1.21.0.tar.gz PackageFileSize: 1.181 MiB