Package: proDA Version: 1.21.0 Command: /home/biocbuild/R/R/bin/R CMD check --install=check:proDA.install-out.txt --library=/home/biocbuild/R/R/site-library --no-vignettes --timings proDA_1.21.0.tar.gz StartedAt: 2025-01-28 14:04:24 -0000 (Tue, 28 Jan 2025) EndedAt: 2025-01-28 14:10:23 -0000 (Tue, 28 Jan 2025) EllapsedTime: 359.3 seconds RetCode: 0 Status: OK CheckDir: proDA.Rcheck Warnings: 0