Package: proDA Version: 1.21.0 Command: /home/biocbuild/R/R/bin/R CMD INSTALL proDA StartedAt: 2025-01-29 19:39:29 -0000 (Wed, 29 Jan 2025) EndedAt: 2025-01-29 19:39:57 -0000 (Wed, 29 Jan 2025) EllapsedTime: 28.7 seconds RetCode: 0 Status: OK