Package: proDA Version: 1.21.0 Command: /home/biocbuild/bbs-3.21-bioc/R/bin/R CMD INSTALL proDA StartedAt: 2025-02-09 15:35:09 -0500 (Sun, 09 Feb 2025) EndedAt: 2025-02-09 15:35:30 -0500 (Sun, 09 Feb 2025) EllapsedTime: 21.5 seconds RetCode: 0 Status: OK