Package: proDA Version: 1.21.0 Command: rm -rf proDA.buildbin-libdir && mkdir proDA.buildbin-libdir && E:\biocbuild\bbs-3.21-bioc\R\bin\R.exe CMD INSTALL --build --library=proDA.buildbin-libdir proDA_1.21.0.tar.gz StartedAt: 2025-02-05 08:36:55 -0500 (Wed, 05 Feb 2025) EndedAt: 2025-02-05 08:37:38 -0500 (Wed, 05 Feb 2025) EllapsedTime: 43.4 seconds RetCode: 0 Status: OK PackageFile: proDA_1.21.0.zip PackageFileSize: 1.085 MiB