Package: proDA Version: 1.21.0 Command: chmod a+r proDA -R && E:\biocbuild\bbs-3.21-bioc\R\bin\R.exe CMD build --keep-empty-dirs --no-resave-data proDA StartedAt: 2025-02-04 20:54:49 -0500 (Tue, 04 Feb 2025) EndedAt: 2025-02-04 20:56:56 -0500 (Tue, 04 Feb 2025) EllapsedTime: 126.5 seconds RetCode: 0 Status: OK PackageFile: proDA_1.21.0.tar.gz PackageFileSize: 1.123 MiB