Package: proDA Version: 1.21.0 Command: E:\biocbuild\bbs-3.21-bioc\R\bin\R.exe CMD INSTALL proDA StartedAt: 2025-02-04 15:43:05 -0500 (Tue, 04 Feb 2025) EndedAt: 2025-02-04 15:43:46 -0500 (Tue, 04 Feb 2025) EllapsedTime: 41.0 seconds RetCode: 0 Status: OK