Package: profileScoreDist Version: 1.35.0 Command: /Library/Frameworks/R.framework/Resources/bin/R CMD build --keep-empty-dirs --no-resave-data profileScoreDist StartedAt: 2025-02-09 18:00:53 -0500 (Sun, 09 Feb 2025) EndedAt: 2025-02-09 18:01:15 -0500 (Sun, 09 Feb 2025) EllapsedTime: 21.8 seconds RetCode: 0 Status: OK PackageFile: profileScoreDist_1.35.0.tar.gz PackageFileSize: 187.8 KiB